BEGIN:VCALENDAR
VERSION:2.0
PRODID:-//Transformation College - ECPv6.15.20//NONSGML v1.0//EN
CALSCALE:GREGORIAN
METHOD:PUBLISH
X-ORIGINAL-URL:https://transformationcollege.org
X-WR-CALDESC:Events for Transformation College
REFRESH-INTERVAL;VALUE=DURATION:PT1H
X-Robots-Tag:noindex
X-PUBLISHED-TTL:PT1H
BEGIN:VTIMEZONE
TZID:UTC
BEGIN:STANDARD
TZOFFSETFROM:+0000
TZOFFSETTO:+0000
TZNAME:UTC
DTSTART:20240101T000000
END:STANDARD
END:VTIMEZONE
BEGIN:VEVENT
DTSTART;TZID=UTC:20250920T100000
DTEND;TZID=UTC:20251213T160000
DTSTAMP:20260423T174809
CREATED:20250911T111150Z
LAST-MODIFIED:20250911T111647Z
UID:8182-1758362400-1765641600@transformationcollege.org
SUMMARY:CERTIFICATE IN INFORMATION SYSTEMS
DESCRIPTION:🚀 Boost Your Tech & Business Edge! \nTransformation College of Business & Technology (TCBT) invites you to register for the Certificate in Information Systems (CIS) program. \n📅 Date: 20th of September – 13th of December 2025\n💻 Mode: Live Webinar\n🎓 Tuition: 100% FREE \nAt TCBT\, our Certificate in Information Systems equips you with the skills to thrive in today’s technology-driven world. \n✨ What You Will Gain:\n🌍 Globally relevant knowledge in Information Systems\n🛠 Hands-on practical digital skills demanded by today’s employers\n📊 Ability to work with data\, analytics\, and information tools\n💼 Improved career opportunities in tech and business fields\n🎓 A recognized Certificate of Completion to strengthen your CV and profile \nWhy Choose Us?\n✅ 100% Tuition Free – no hidden costs\n✅ Delivered by expert instructors via interactive webinars\n✅ Practical\, real-world focused curriculum \n👉 Don’t miss this opportunity to upskill and future-proof your career. \nRegister Now!
URL:https://transformationcollege.org/event/certificate-in-information-systems/
LOCATION:Online
ATTACH;FMTTYPE=image/png:https://transformationcollege.org/wp-content/uploads/2025/09/CIS.png
END:VEVENT
BEGIN:VEVENT
DTSTART;TZID=UTC:20250214T100000
DTEND;TZID=UTC:20250214T160000
DTSTAMP:20260423T174809
CREATED:20250911T111857Z
LAST-MODIFIED:20250911T111857Z
UID:8184-1739527200-1739548800@transformationcollege.org
SUMMARY:Certification in Entrepreneurship and Business Management
DESCRIPTION:🚀 Step Into Entrepreneurship & Business Success! \nTransformation College of Business & Technology (TCBT) invites you to register for the Certificate in Entrepreneurship & Business Management (EBM) program. \n📅 Date: 20th of September – 13th of December 2025\n💻 Mode: Live Webinar\n🎓 Tuition: 100% FREE \nAt TCBT\, our Certificate in Entrepreneurship & Business Management equips you with the knowledge and skills to thrive as a business leader and entrepreneur in today’s competitive world. \n✨ What You Will Gain:\n🌍 Globally relevant knowledge in Business and Management\n💡 Entrepreneurial skills to start\, manage\, and grow your own venture\n🛠️ Practical digital and business skills needed by today’s employers\n📊 Strong foundation in strategic thinking\, innovation & problem-solving\n🎓 A recognized Certificate of Completion to enhance your career or business credibility \nWhy Register?\n✅ 100% Tuition Free – no hidden charges\n✅ Delivered by expert instructors via interactive webinars\n✅ Practical\, real-world focused curriculum \n👉 Don’t miss this opportunity to sharpen your entrepreneurial and business edge! \n🎓 Don’t miss this opportunity to level up your business management skills! \nRegister Now!
URL:https://transformationcollege.org/event/certification-in-entrepreneurship-and-business-management/
LOCATION:Online
ATTACH;FMTTYPE=image/png:https://transformationcollege.org/wp-content/uploads/2025/09/CIS-1.png
END:VEVENT
BEGIN:VEVENT
DTSTART;TZID=UTC:20250214T100000
DTEND;TZID=UTC:20250214T160000
DTSTAMP:20260423T174809
CREATED:20250213T090901Z
LAST-MODIFIED:20250219T122946Z
UID:7475-1739527200-1739548800@transformationcollege.org
SUMMARY:Certification in Software Application Development and Cybersecurity - Level 2
DESCRIPTION:🚀 Software Application Development and Cybersecurity Course Kicks Off Today! \nAre you ready to take your tech-skills to the next level? Software Application Development and Cybersecurity Course at Transformation College! \nWhat You Will Learn:\n✔️ Software Development: From coding basics to advanced application development 👨‍💻\n✔️ Cybersecurity Essentials: Protect your apps and data from cyber threats 🔒\n✔️ Building secure and scalable applications 💡\n✔️ Best practices for testing\, debugging\, and deployment ⚙️\n✔️ Understanding security protocols and frameworks 🔐\n✔️ And much more! \n📅 First session starts today! Classes are held Saturdays every month.\n📌 100% Tuition-Free \n🎓 Don’t miss this opportunity to level up your software development and cybersecurity skills! \nRegister Now!
URL:https://transformationcollege.org/event/certification-in-software-application-development-and-cybersecurity-level-2/
LOCATION:Online
ATTACH;FMTTYPE=image/jpeg:https://transformationcollege.org/wp-content/uploads/2025/02/SADC.jpg
END:VEVENT
BEGIN:VEVENT
DTSTART;TZID=UTC:20250214T100000
DTEND;TZID=UTC:20250214T160000
DTSTAMP:20260423T174809
CREATED:20250213T090857Z
LAST-MODIFIED:20250219T123106Z
UID:7460-1739527200-1739548800@transformationcollege.org
SUMMARY:Certification in Entrepreneurship and Business Management- LEVEL 2
DESCRIPTION:🚀 Our Certified Entrepreneurship and Business Management Kicks Off Today! \nAre you ready to take your business skills to the next level? Join our Entrepreneurship and Business Management course at Transformation College! \nWhat You Will Learn:\n✔️ Business Foundations & Strategy\n✔️ Entrepreneurial Mindset & Innovation\n✔️ Financial Management & Budgeting\n✔️ Marketing & Branding Strategies\n✔️ Operations & Business Growth\n✔️ Leadership & Business Ethics\n✔️ Customer Relations & Sales Techniques\n✔️ Business Law & Compliance \n📅 First session starts today! Classes are held Saturdays every month.\n📌 100% Tuition-Free \n🎓 Don’t miss this opportunity to level up your business management skills! \nRegister Now!
URL:https://transformationcollege.org/event/certification-in-entrepreneurship-and-business-management-level-2/
LOCATION:Online
ATTACH;FMTTYPE=image/jpeg:https://transformationcollege.org/wp-content/uploads/2025/02/EBM.jpg
END:VEVENT
BEGIN:VEVENT
DTSTART;TZID=UTC:20250208T120000
DTEND;TZID=UTC:20250208T140000
DTSTAMP:20260423T174809
CREATED:20250124T090811Z
LAST-MODIFIED:20250124T091459Z
UID:7288-1739016000-1739023200@transformationcollege.org
SUMMARY:CompTIA TECH+ and Business Management Program\, Level 1 Graduation
DESCRIPTION:🎓✨ The Moment We’ve All Been Waiting For! ✨🎓 \nTo all our registered students for the Comptia tech+ and Business Management program\, who took the assessments and exams\, you are specially invited to your physical graduation ceremony! \nThis is more than just a graduation; it’s a celebration of excellence\, resilience\, and the bright future of our amazing students. Join us as we honor the Class of 2024 in style! 🎉 \n📅 Date: 8th February 2025\n⏰ Time: 12:00 AM\n📍 Location: 2 Bamishile Street\, Off Allen Avenue\, Ikeja\, Lagos \nCome witness the success stories that inspire\, network with incredible minds\, and celebrate this milestone achievement with us. Together\, we shape the leaders of tomorrow! \n📞 Contact us: +234 912 718 3212\n🌐 Visit us: [www.transformationcollege.org] \n#GraduationDay #TransformationCollege #TechPlus #FutureLeaders #ClassOf2024 🎓
URL:https://transformationcollege.org/event/comptia-tech-and-business-management-program-level-1-graduation/
LOCATION:Ikeja\, 2 Bamishile Street\, Allen Avenue\, Ikeja\, Lagos\, 100234\, Nigeria
ATTACH;FMTTYPE=image/png:https://transformationcollege.org/wp-content/uploads/2025/01/TCBT-Graduation-6.png
END:VEVENT
BEGIN:VEVENT
DTSTART;TZID=UTC:20250131T110000
DTEND;TZID=UTC:20250212T130000
DTSTAMP:20260423T174809
CREATED:20250213T090908Z
LAST-MODIFIED:20250219T124327Z
UID:7483-1738321200-1739365200@transformationcollege.org
SUMMARY:AI Business Analyst Course
DESCRIPTION:🚀 Our Certified AI Business Analyst course Kicks Off Today! \nAre you ready to kick-start your business analyst journey or take your skills to the next level? Join our AI Business Analyst course at Transformation College! \nWhat You Will Learn: \n✔️ AI Fundamentals: Understand the core concepts of artificial intelligence and machine learning and how they’re applied in business contexts.\n✔️ Data Analysis Techniques: Learn how to analyze and interpret large datasets to provide actionable insights for decision-makers.\n✔️ Business Strategy: Develop the ability to align AI-driven insights with organizational goals and strategies.\n✔️ Practical Tools & Techniques: Gain hands-on experience with industry-leading AI tools and software. \n📅 First session starts today! Classes are held 4th Friday of every month.\n📌 100% Tuition-Free \n🎓 Don’t miss this opportunity to level up your Business Analyst skills! \nRegister Now!
URL:https://transformationcollege.org/event/ai-business-analyst-course/
LOCATION:Online
ATTACH;FMTTYPE=image/jpeg:https://transformationcollege.org/wp-content/uploads/2025/01/BAI.jpg
ORGANIZER;CN="Transformation College":MAILTO:info@transformationcollege.org
END:VEVENT
BEGIN:VEVENT
DTSTART;TZID=UTC:20250131T110000
DTEND;TZID=UTC:20250212T130000
DTSTAMP:20260423T174809
CREATED:20250213T090904Z
LAST-MODIFIED:20250219T124342Z
UID:7479-1738321200-1739365200@transformationcollege.org
SUMMARY:AI and Automation Specialist Course
DESCRIPTION:🚀 Our Certified AI and Automation Specialist course Kicks Off Today! \nAre you ready to kick-start your tech journey or take your tech-skills to the next level? Join our AI and Automation Specialist course at Transformation College! \nWhat You Will Learn: \n✔️ The fundamentals of AI and automation technologies.\n✔️ How to design\, implement\, and optimize intelligent systems.\n✔️ The latest tools\, frameworks\, and programming languages.\n✔️ Practical skills to solve real-world problems across industries. \n📅 First session starts today! Classes are held 4th Friday of every month.\n📌 100% Tuition-Free \n🎓 Don’t miss this opportunity to level up your AI and automation skills! \nRegister Now!
URL:https://transformationcollege.org/event/ai-and-automation-specialist-course/
LOCATION:Online
ATTACH;FMTTYPE=image/jpeg:https://transformationcollege.org/wp-content/uploads/2025/01/AAI.jpg
ORGANIZER;CN="Transformation College":MAILTO:info@transformationcollege.org
END:VEVENT
BEGIN:VEVENT
DTSTART;TZID=UTC:20250124T120000
DTEND;TZID=UTC:20250124T140000
DTSTAMP:20260423T174809
CREATED:20250124T085820Z
LAST-MODIFIED:20250219T124335Z
UID:7278-1737720000-1737727200@transformationcollege.org
SUMMARY:Digital Marketing Program
DESCRIPTION:🚀 Digital Marketing Fridays Begin Today! \n💡 Ready to learn\, innovate\, and excel in the digital world? Join us every Friday for Digital Marketing Fridays at Transformation College! \n✨ What to Expect:\n✅ Live Classes\n✅ Practical Insights\n✅ Expert Guidance\n✅ Networking Opportunities \n📅 First session starts today! Classes are held one Friday every month.\n📌 100% Tuition-Free \n🎓 Don’t miss this opportunity to level up your digital marketing skills! \nRegister Now!
URL:https://transformationcollege.org/event/digital-marketing-program-google-ads-mastery-course/
LOCATION:Online
ATTACH;FMTTYPE=image/jpeg:https://transformationcollege.org/wp-content/uploads/2025/01/WhatsApp-Image-2025-01-23-at-11.22.18-AM.jpeg
END:VEVENT
END:VCALENDAR